BEGIN:VCALENDAR
VERSION:2.0
PRODID:-//U.S. Open Taekwondo Hanmadang - ECPv6.8.1//NONSGML v1.0//EN
CALSCALE:GREGORIAN
METHOD:PUBLISH
X-ORIGINAL-URL:https://usopentkd.com
X-WR-CALDESC:Events for U.S. Open Taekwondo Hanmadang
REFRESH-INTERVAL;VALUE=DURATION:PT1H
X-Robots-Tag:noindex
X-PUBLISHED-TTL:PT1H
BEGIN:VTIMEZONE
TZID:America/Denver
BEGIN:DAYLIGHT
TZOFFSETFROM:-0700
TZOFFSETTO:-0600
TZNAME:MDT
DTSTART:20180311T090000
END:DAYLIGHT
BEGIN:STANDARD
TZOFFSETFROM:-0600
TZOFFSETTO:-0700
TZNAME:MST
DTSTART:20181104T080000
END:STANDARD
END:VTIMEZONE
BEGIN:VEVENT
DTSTART;TZID=America/Denver:20180609T080000
DTEND;TZID=America/Denver:20180609T160000
DTSTAMP:20260422T110000
CREATED:20180330T222857Z
LAST-MODIFIED:20180330T225145Z
UID:1967-1528531200-1528560000@usopentkd.com
SUMMARY:All OC Meeting | Volunteer Training | Practice Hanmadang
DESCRIPTION:Practice U.S. Open /Referee/Score Keeping and Tournament Volunteer Training  \nSaturday June 9\, 2018  \nLocation – Stetson Hills  \nAll locations — No regular classes \nOnline sign up\, no cost to participate (unless students want to break real boards – have to purchase own boards) (Thursday June 7\, 2018 Bracketing Training) \n8:00 AM –9:00 AM —  setup (Logistics\, IT\, Set-Up/Breakdown\, Check-In and Music OC and volunteers arrive) \n9:00 – 10:00 AM  \nHolding Area/Ring Manager/Score Keeper Training (all students and parents who plan to volunteer in this area should participate in this training.  Leadership\, Woosong\, and Masters Program students are strongly encouraged to participate) \nReferee Training – Black Belts \nBreaking and Board Holding volunteer Training \n10:00 – 10:15 – Final Setup rings \n9:30 – 10:15 – Participant Check-in \n10:15 –12:00 —  Practice U.S. Open Taekwondo Hanmadang \n\nIndividual creative breaking\nIndividual traditional forms\nTeam Traditional forms\n\n12:00 – 12:30 – Lunch Break (not provided – students and volunteers are encouraged to bring their own lunch.) \n12:30 — 2:00 PM – Practice U.S. Open Taekwondo Hanmadang \nAll other events \n2:00 – 3:00 PM — Demo Team Mock Competition \n3:00 – 4:00 – Organizing Committee meeting for Chairs and Sub Chairs – All Members \n 
URL:https://usopentkd.com/event/all-oc-meeting-volunteer-training-practice-hanmadang/
LOCATION:Stetson Hills Dojang\, 5799 Stetson Hills Blvd #110\, Colorado Springs\, CO\, 80917
CATEGORIES:Organizing Committee,Practice Hanmadang,Volunteer Training
END:VEVENT
END:VCALENDAR